BEGIN:VCALENDAR
VERSION:2.0
PRODID:-//Mission locale ouest eure - ECPv6.15.13.1//NONSGML v1.0//EN
CALSCALE:GREGORIAN
METHOD:PUBLISH
X-ORIGINAL-URL:https://www.mission-locale-ouest-eure.com
X-WR-CALDESC:Évènements pour Mission locale ouest eure
REFRESH-INTERVAL;VALUE=DURATION:PT1H
X-Robots-Tag:noindex
X-PUBLISHED-TTL:PT1H
BEGIN:VTIMEZONE
TZID:Europe/Paris
BEGIN:DAYLIGHT
TZOFFSETFROM:+0100
TZOFFSETTO:+0200
TZNAME:CEST
DTSTART:20200329T010000
END:DAYLIGHT
BEGIN:STANDARD
TZOFFSETFROM:+0200
TZOFFSETTO:+0100
TZNAME:CET
DTSTART:20201025T010000
END:STANDARD
BEGIN:DAYLIGHT
TZOFFSETFROM:+0100
TZOFFSETTO:+0200
TZNAME:CEST
DTSTART:20210328T010000
END:DAYLIGHT
BEGIN:STANDARD
TZOFFSETFROM:+0200
TZOFFSETTO:+0100
TZNAME:CET
DTSTART:20211031T010000
END:STANDARD
BEGIN:DAYLIGHT
TZOFFSETFROM:+0100
TZOFFSETTO:+0200
TZNAME:CEST
DTSTART:20220327T010000
END:DAYLIGHT
BEGIN:STANDARD
TZOFFSETFROM:+0200
TZOFFSETTO:+0100
TZNAME:CET
DTSTART:20221030T010000
END:STANDARD
END:VTIMEZONE
BEGIN:VEVENT
DTSTART;TZID=Europe/Paris:20211115T090000
DTEND;TZID=Europe/Paris:20211115T170000
DTSTAMP:20260423T211503
CREATED:20211118T125441Z
LAST-MODIFIED:20211118T125441Z
UID:2377-1636966800-1636995600@www.mission-locale-ouest-eure.com
SUMMARY:Lab'Mobile PUXI
DESCRIPTION:Le Plastique c’est fantastique! \n  \nDécouverte Métier de la plasturgie à Pont-Audemer!
URL:https://www.mission-locale-ouest-eure.com/agenda/labmobile-puxi/
LOCATION:Eure
CATEGORIES:Accompagnement,Rencontre,Visite
ATTACH;FMTTYPE=image/jpeg:https://www.mission-locale-ouest-eure.com/wp-content/uploads/2021/11/AFFICHE-PUXI-2.jpg
END:VEVENT
BEGIN:VEVENT
DTSTART;TZID=Europe/Paris:20211116T090000
DTEND;TZID=Europe/Paris:20211116T170000
DTSTAMP:20260423T211503
CREATED:20211118T125527Z
LAST-MODIFIED:20211118T125527Z
UID:2379-1637053200-1637082000@www.mission-locale-ouest-eure.com
SUMMARY:Lab'Mobile PUXI
DESCRIPTION:Le Plastique c’est fantastique! \n  \nDécouverte Métier de la plasturgie à Bernay!
URL:https://www.mission-locale-ouest-eure.com/agenda/labmobile-puxi-2/
LOCATION:Eure
CATEGORIES:Accompagnement,Rencontre,Visite
ATTACH;FMTTYPE=image/jpeg:https://www.mission-locale-ouest-eure.com/wp-content/uploads/2021/11/AFFICHE-PUXI-2.jpg
END:VEVENT
BEGIN:VEVENT
DTSTART;TZID=Europe/Paris:20211119T090000
DTEND;TZID=Europe/Paris:20211119T120000
DTSTAMP:20260423T211503
CREATED:20211118T130554Z
LAST-MODIFIED:20211118T130554Z
UID:2383-1637312400-1637323200@www.mission-locale-ouest-eure.com
SUMMARY:Atelier Huiles Essentielles - Les Mois de la Santé
DESCRIPTION:Atelier Huiles Essentielles à la Mission Locale de Pont-Audemer
URL:https://www.mission-locale-ouest-eure.com/agenda/atelier-huiles-essentielles-les-mois-de-la-sante-2/
LOCATION:Mission Locale Ouest Eure Pont-Audemer\, 9 rue des Papetiers\, Pont-Audemer\, Eure\, 27500\, France
CATEGORIES:Rencontre
ATTACH;FMTTYPE=image/jpeg:https://www.mission-locale-ouest-eure.com/wp-content/uploads/2021/08/Le-Mois-de-la-Santé-2021-V4-1.jpg
ORGANIZER;CN="Mission Locale Ouest Eure":MAILTO:mlouesteure@miloe.fr
END:VEVENT
BEGIN:VEVENT
DTSTART;TZID=Europe/Paris:20211119T140000
DTEND;TZID=Europe/Paris:20211119T170000
DTSTAMP:20260423T211503
CREATED:20211118T130231Z
LAST-MODIFIED:20211118T130231Z
UID:2381-1637330400-1637341200@www.mission-locale-ouest-eure.com
SUMMARY:Atelier Huiles Essentielles - Les Mois de la Santé
DESCRIPTION:Atelier Huiles Essentielles à la Mission Locale de Bernay
URL:https://www.mission-locale-ouest-eure.com/agenda/atelier-huiles-essentielles-les-mois-de-la-sante/
LOCATION:Mission Locale Ouest Eure Bernay\, 41 Boulevard Dubus\, Bernay\, 27300\, France
CATEGORIES:Rencontre
ATTACH;FMTTYPE=image/jpeg:https://www.mission-locale-ouest-eure.com/wp-content/uploads/2021/08/Le-Mois-de-la-Santé-2021-V4-1.jpg
ORGANIZER;CN="Mission Locale Ouest Eure":MAILTO:mlouesteure@miloe.fr
END:VEVENT
BEGIN:VEVENT
DTSTART;TZID=Europe/Paris:20211122T090000
DTEND;TZID=Europe/Paris:20211122T170000
DTSTAMP:20260423T211503
CREATED:20211118T131748Z
LAST-MODIFIED:20211118T131748Z
UID:2387-1637571600-1637600400@www.mission-locale-ouest-eure.com
SUMMARY:Bilan de Santé - Les Mois de la Santé
DESCRIPTION:Atelier Bilan de Santé à la Mission Locale de Pont-Audemer
URL:https://www.mission-locale-ouest-eure.com/agenda/bilan-de-sante-les-mois-de-la-sante/
LOCATION:Mission Locale Ouest Eure Pont-Audemer\, 9 rue des Papetiers\, Pont-Audemer\, Eure\, 27500\, France
CATEGORIES:Rencontre
ATTACH;FMTTYPE=image/jpeg:https://www.mission-locale-ouest-eure.com/wp-content/uploads/2021/08/Le-Mois-de-la-Santé-2021-V4-1.jpg
ORGANIZER;CN="Mission Locale Ouest Eure":MAILTO:mlouesteure@miloe.fr
END:VEVENT
BEGIN:VEVENT
DTSTART;TZID=Europe/Paris:20211123T090000
DTEND;TZID=Europe/Paris:20211123T170000
DTSTAMP:20260423T211503
CREATED:20211118T131849Z
LAST-MODIFIED:20211118T131849Z
UID:2389-1637658000-1637686800@www.mission-locale-ouest-eure.com
SUMMARY:Bilan de santé - Les Mois de la Santé
DESCRIPTION:Atelier Bilan de Santé à la Mission Locale de Pont-Audemer
URL:https://www.mission-locale-ouest-eure.com/agenda/bilan-de-sante-les-mois-de-la-sante-2/
LOCATION:Mission Locale Ouest Eure Pont-Audemer\, 9 rue des Papetiers\, Pont-Audemer\, Eure\, 27500\, France
CATEGORIES:Rencontre
ATTACH;FMTTYPE=image/jpeg:https://www.mission-locale-ouest-eure.com/wp-content/uploads/2021/08/Le-Mois-de-la-Santé-2021-V4-1.jpg
ORGANIZER;CN="Mission Locale Ouest Eure":MAILTO:mlouesteure@miloe.fr
END:VEVENT
BEGIN:VEVENT
DTSTART;TZID=Europe/Paris:20211125T090000
DTEND;TZID=Europe/Paris:20211125T120000
DTSTAMP:20260423T211503
CREATED:20211118T132226Z
LAST-MODIFIED:20211118T132226Z
UID:2391-1637830800-1637841600@www.mission-locale-ouest-eure.com
SUMMARY:Prévention Routière - Les Mois de la Santé
DESCRIPTION:Atelier Prévention Routière à la permanence (Mission Locale) de Beuzeville
URL:https://www.mission-locale-ouest-eure.com/agenda/prevention-routiere-les-mois-de-la-sante/
LOCATION:Maison du Département\, 297 rue Louis Pasteur\, Beuzeville\, 27210\, France
CATEGORIES:Rencontre
ATTACH;FMTTYPE=image/jpeg:https://www.mission-locale-ouest-eure.com/wp-content/uploads/2021/08/Le-Mois-de-la-Santé-2021-V4-1.jpg
ORGANIZER;CN="Mission Locale Ouest Eure":MAILTO:mlouesteure@miloe.fr
END:VEVENT
BEGIN:VEVENT
DTSTART;TZID=Europe/Paris:20211125T100000
DTEND;TZID=Europe/Paris:20211125T120000
DTSTAMP:20260423T211503
CREATED:20211118T130924Z
LAST-MODIFIED:20211118T130924Z
UID:2385-1637834400-1637841600@www.mission-locale-ouest-eure.com
SUMMARY:Appui Pass Flux - Les Mois de la Santé
DESCRIPTION:Atelier Appui Pass sur le flux à la Mission Locale de Bernay
URL:https://www.mission-locale-ouest-eure.com/agenda/appui-pass-flux-les-mois-de-la-sante/
LOCATION:Mission Locale Ouest Eure Bernay\, 41 Boulevard Dubus\, Bernay\, 27300\, France
CATEGORIES:Rencontre
ATTACH;FMTTYPE=image/jpeg:https://www.mission-locale-ouest-eure.com/wp-content/uploads/2021/08/Le-Mois-de-la-Santé-2021-V4-1.jpg
ORGANIZER;CN="Mission Locale Ouest Eure":MAILTO:mlouesteure@miloe.fr
END:VEVENT
BEGIN:VEVENT
DTSTART;TZID=Europe/Paris:20211126T090000
DTEND;TZID=Europe/Paris:20211126T120000
DTSTAMP:20260423T211503
CREATED:20211118T132355Z
LAST-MODIFIED:20211118T132355Z
UID:2393-1637917200-1637928000@www.mission-locale-ouest-eure.com
SUMMARY:Prévention Routière - Les Mois de la Santé
DESCRIPTION:Atelier Prévention Routière à la Mission Locale de Bernay
URL:https://www.mission-locale-ouest-eure.com/agenda/prevention-routiere-les-mois-de-la-sante-2/
LOCATION:Mission Locale Ouest Eure Bernay\, 41 Boulevard Dubus\, Bernay\, 27300\, France
CATEGORIES:Rencontre
ATTACH;FMTTYPE=image/jpeg:https://www.mission-locale-ouest-eure.com/wp-content/uploads/2021/08/Le-Mois-de-la-Santé-2021-V4-1.jpg
ORGANIZER;CN="Mission Locale Ouest Eure":MAILTO:mlouesteure@miloe.fr
END:VEVENT
BEGIN:VEVENT
DTSTART;TZID=Europe/Paris:20211126T140000
DTEND;TZID=Europe/Paris:20211126T170000
DTSTAMP:20260423T211503
CREATED:20211118T132507Z
LAST-MODIFIED:20211118T132507Z
UID:2395-1637935200-1637946000@www.mission-locale-ouest-eure.com
SUMMARY:Prévention Routière - Les Mois de la Santé
DESCRIPTION:Atelier Prévention Routière à la Mission Locale de Pont-Audemer
URL:https://www.mission-locale-ouest-eure.com/agenda/prevention-routiere-les-mois-de-la-sante-3/
LOCATION:Mission Locale Ouest Eure Pont-Audemer\, 9 rue des Papetiers\, Pont-Audemer\, Eure\, 27500\, France
CATEGORIES:Rencontre
ATTACH;FMTTYPE=image/jpeg:https://www.mission-locale-ouest-eure.com/wp-content/uploads/2021/08/Le-Mois-de-la-Santé-2021-V4-1.jpg
ORGANIZER;CN="Mission Locale Ouest Eure":MAILTO:mlouesteure@miloe.fr
END:VEVENT
BEGIN:VEVENT
DTSTART;TZID=Europe/Paris:20211130T090000
DTEND;TZID=Europe/Paris:20211130T120000
DTSTAMP:20260423T211503
CREATED:20211118T140330Z
LAST-MODIFIED:20211118T140422Z
UID:2409-1638262800-1638273600@www.mission-locale-ouest-eure.com
SUMMARY:Développement Personnel et Professionnel
DESCRIPTION:Atelier Développement Personnel et Professionnel à la permanence (Mission Locale) à Bourg-Achard
URL:https://www.mission-locale-ouest-eure.com/agenda/developpement-personnel-et-professionnel/
LOCATION:Mission Locale Ouest Eure Bourg-Achard\, 103\, rue Carlet\, Bourg-Achard\, Eure\, 27310\, France
CATEGORIES:Rencontre
ATTACH;FMTTYPE=image/jpeg:https://www.mission-locale-ouest-eure.com/wp-content/uploads/2021/08/Le-Mois-de-la-Santé-2021-V4-1.jpg
ORGANIZER;CN="Mission Locale Ouest Eure":MAILTO:mlouesteure@miloe.fr
END:VEVENT
END:VCALENDAR